BEGIN:VCALENDAR
VERSION:2.0
PRODID:-//IG Trailrunning im Taunus - ECPv6.15.20//NONSGML v1.0//EN
CALSCALE:GREGORIAN
METHOD:PUBLISH
X-WR-CALNAME:IG Trailrunning im Taunus
X-ORIGINAL-URL:https://taunus.run
X-WR-CALDESC:Veranstaltungen für IG Trailrunning im Taunus
REFRESH-INTERVAL;VALUE=DURATION:PT1H
X-Robots-Tag:noindex
X-PUBLISHED-TTL:PT1H
BEGIN:VTIMEZONE
TZID:Europe/Berlin
BEGIN:DAYLIGHT
TZOFFSETFROM:+0100
TZOFFSETTO:+0200
TZNAME:CEST
DTSTART:20210328T010000
END:DAYLIGHT
BEGIN:STANDARD
TZOFFSETFROM:+0200
TZOFFSETTO:+0100
TZNAME:CET
DTSTART:20211031T010000
END:STANDARD
BEGIN:DAYLIGHT
TZOFFSETFROM:+0100
TZOFFSETTO:+0200
TZNAME:CEST
DTSTART:20220327T010000
END:DAYLIGHT
BEGIN:STANDARD
TZOFFSETFROM:+0200
TZOFFSETTO:+0100
TZNAME:CET
DTSTART:20221030T010000
END:STANDARD
BEGIN:DAYLIGHT
TZOFFSETFROM:+0100
TZOFFSETTO:+0200
TZNAME:CEST
DTSTART:20230326T010000
END:DAYLIGHT
BEGIN:STANDARD
TZOFFSETFROM:+0200
TZOFFSETTO:+0100
TZNAME:CET
DTSTART:20231029T010000
END:STANDARD
END:VTIMEZONE
BEGIN:VEVENT
DTSTART;TZID=Europe/Berlin:20220923T183000
DTEND;TZID=Europe/Berlin:20220925T140000
DTSTAMP:20260420T145800
CREATED:20220222T202619Z
LAST-MODIFIED:20220916T085406Z
UID:23-1663957800-1664114400@taunus.run
SUMMARY:Trail-Magazin Revier Guide by Salomon
DESCRIPTION:Am Wochenende 23.-25.9.2022 ist das Trail Magazin zu Gast im Taunus\, zusammen mit unserem Verein IG Trailrunning im Taunus haben wir ein attraktives Programm erarbeitet. Alle Infos findet Ihr auf unserer Seite.
URL:https://taunus.run/event/taunus-trailrunning-festival/
LOCATION:Taunus Informations Zentrum Oberursel\, Hohemarkstrasse 192\, Oberursel (Taunus)\, Hessen\, 61440\, Deutschland
END:VEVENT
END:VCALENDAR