BEGIN:VCALENDAR
VERSION:2.0
PRODID:-//IG Trailrunning im Taunus - ECPv6.15.20//NONSGML v1.0//EN
CALSCALE:GREGORIAN
METHOD:PUBLISH
X-WR-CALNAME:IG Trailrunning im Taunus
X-ORIGINAL-URL:https://taunus.run
X-WR-CALDESC:Veranstaltungen für IG Trailrunning im Taunus
REFRESH-INTERVAL;VALUE=DURATION:PT1H
X-Robots-Tag:noindex
X-PUBLISHED-TTL:PT1H
BEGIN:VTIMEZONE
TZID:Europe/Paris
BEGIN:DAYLIGHT
TZOFFSETFROM:+0100
TZOFFSETTO:+0200
TZNAME:CEST
DTSTART:20220327T010000
END:DAYLIGHT
BEGIN:STANDARD
TZOFFSETFROM:+0200
TZOFFSETTO:+0100
TZNAME:CET
DTSTART:20221030T010000
END:STANDARD
BEGIN:DAYLIGHT
TZOFFSETFROM:+0100
TZOFFSETTO:+0200
TZNAME:CEST
DTSTART:20230326T010000
END:DAYLIGHT
BEGIN:STANDARD
TZOFFSETFROM:+0200
TZOFFSETTO:+0100
TZNAME:CET
DTSTART:20231029T010000
END:STANDARD
BEGIN:DAYLIGHT
TZOFFSETFROM:+0100
TZOFFSETTO:+0200
TZNAME:CEST
DTSTART:20240331T010000
END:DAYLIGHT
BEGIN:STANDARD
TZOFFSETFROM:+0200
TZOFFSETTO:+0100
TZNAME:CET
DTSTART:20241027T010000
END:STANDARD
END:VTIMEZONE
BEGIN:VEVENT
DTSTART;TZID=Europe/Paris:20230210T183000
DTEND;TZID=Europe/Paris:20230210T200000
DTSTAMP:20260420T060614
CREATED:20221219T074914Z
LAST-MODIFIED:20230117T194620Z
UID:215-1676053800-1676059200@taunus.run
SUMMARY:2. Lauftreff der IG Trailrunning im Taunus
DESCRIPTION:Bei diesem kostenlosen\, öffentlichen Lauftreff der IG Trailrunnig Taunus erkunden wir gemeinsam für ca. 90min den Taunus. \nStartort: Parkplatz des Taunusinformationszentrums\, Hohemark (Oberursel)\nGuides: tbd \n  \nHinweise: Bitte bringt eine geladene Stirnlampe\, Trailrunning Schuhe und wettergerechte Kleidung (Lauf- oder Regenjacke\, Handschuhe\, etc.). Wir laufen in der Regel Richtung Taunus Hauptkamm\, dort ist es meist kühler und windiger. Trailrunning Stöcke werde nicht benötigt.
URL:https://taunus.run/event/2-lauftreff-der-ig-trailrunning-taunus/
LOCATION:Taunus Informations Zentrum Oberursel\, Hohemarkstrasse 192\, Oberursel (Taunus)\, Hessen\, 61440\, Deutschland
END:VEVENT
END:VCALENDAR